BEGIN:VCALENDAR
VERSION:2.0
PRODID:icalendar-ruby
CALSCALE:GREGORIAN
METHOD:PUBLISH
BEGIN:VEVENT
DTSTAMP:20260422T082408Z
UID:5-1510008@gilbertumc.org
DTSTART:20261018T180000Z
DTEND:20261018T190000Z
CLASS:PUBLIC
CREATED:20260421T182654
DESCRIPTION:Sunday Worship
LAST-MODIFIED:20260421T182654
LOCATION:
SUMMARY:Sunday Worship
URL;VALUE=URI:https://gilbertumc.org/events/sunday-worship/2026-10-18
END:VEVENT
END:VCALENDAR
